BEGIN:VCALENDAR
VERSION:2.0
PRODID:-//wp-events-plugin.com//7.2.3.1//EN
TZID:Europe/Stockholm
X-WR-TIMEZONE:Europe/Stockholm
BEGIN:VEVENT
UID:48@miljorattsforeningen.se
DTSTART;TZID=Europe/Stockholm:20161018T173000
DTEND;TZID=Europe/Stockholm:20161018T203000
DTSTAMP:20161012T175210Z
URL:https://miljorattsforeningen.se/aktiviteter/volvo-cars-bygger-ny-bilfa
 brik-i-charleston-sc-usa/
SUMMARY:Volvo Cars bygger ny bilfabrik i Charleston\, SC\, USA
DESCRIPTION:Välkommen på ett seminarium som beskriver skillnaderna mellan
  miljölagstiftningarna i Europa/Sverige och USA\, speciellt ur tillstånd
 ssynpunkt. Utgångspunkten är den nya bilfabrik som är under uppbyggnad 
 i Charleston-området. Detta är den första fabriken som Volvo Cars bygge
 r i USA.\nVolvo Cars har sålt bilar i USA sedan 50-talet och periodvis ha
 r USA varit den största marknaden för Volvo Cars. Valutasvängningarna h
 ar medfört att det projekterats för en fabrik ett flertal gånger genom 
 åren\, men nu blir det av! 2018 skall det rulla ut färdiga volvobilar ur
  fabriken!\n\nDet är en utmaning för Volvo Cars att sätta sig in i båd
 e lagstiftningen och kulturen på miljötillståndsområdet. En del är ga
 nska lika\, men skillnaderna är stora. Exempelvis tog det 65 dagar att f
 å det som kallas Air Construction Permit. Från beslut om plats till bygg
 start tog det 6 månader.\n\nKom och lyssna till en intressant jämförels
 e mellan kontinenternas olika syn på hur miljöarbetet bedrivs på effekt
 ivaste sätt. Mette Christensen\, bolagsjurist Volvo Cars samt Mihkel Laks
 \, teknisk chef Miljöskydd Volvo Cars kommer att ge en målande beskrivni
 ng av detta.\n\nEfter seminariet bjuds det på en enklare måltid med til
 lfälle till erfarenhetsutbyte och trevligt umgänge.
LOCATION:Front Advokater\, Kungstorget 2\, Göteborg\, Sverige
GEO:57.70308859999999;11.967090699999971
X-APPLE-STRUCTURED-LOCATION;VALUE=URI;X-ADDRESS=Kungstorget 2\, Göteborg\,
  Sverige;X-APPLE-RADIUS=100;X-TITLE=Front Advokater:geo:57.70308859999999,
 11.967090699999971
END:VEVENT
BEGIN:VTIMEZONE
TZID:Europe/Stockholm
X-LIC-LOCATION:Europe/Stockholm
BEGIN:DAYLIGHT
DTSTART:20160327T030000
TZOFFSETFROM:+0100
TZOFFSETTO:+0200
TZNAME:CEST
END:DAYLIGHT
END:VTIMEZONE
END:VCALENDAR