BEGIN:VCALENDAR
VERSION:2.0
PRODID:-//wp-events-plugin.com//7.2.3.1//EN
TZID:Europe/Stockholm
X-WR-TIMEZONE:Europe/Stockholm
BEGIN:VEVENT
UID:76@miljorattsforeningen.se
DTSTART;TZID=Europe/Stockholm:20191111T173000
DTEND;TZID=Europe/Stockholm:20191111T183000
DTSTAMP:20191029T205101Z
URL:https://miljorattsforeningen.se/aktiviteter/tema-artskydd-ett-kvallsem
 inarium-du-inte-far-missa/
SUMMARY:Tema artskydd - ett kvällseminarium du inte får missa!
DESCRIPTION:Måndagen den 11 november gästas Västsvenska Miljörättsför
 eningen av Helene Lindahl på Naturvårdsverkets Artenhet. Helene arbetar 
 med artskyddsfrågor sedan flera år tillbaka och har nyligen tagit fram N
 aturvårdsverkets vägledningar om artskydd i miljöbedömningar enligt  
      6 kap. MB. Under seminariet medverkar Helene via videolänk från S
 tockholm och delar med sig av sin omfattande kunskap om regelverket kring 
 skyddade arter och de särskilda utmaningarna vid hantering av artskyddsfr
 ågor i samband med miljöbedömningar. \n\nFrågor till Helene kan med f
 ördel skickas in redan före seminariet på adressen info@miljorattsforen
 ingen.se.\n\nEfter föredraget bjuder föreningen på lättare måltid\, v
 änligen meddela ev. matallergier i samband med anmälan.\n\nFöreningens 
 kontaktperson för evenemanget: Hannele Engdahl\, tel. 0722-55 86 15.\n\n&
 nbsp\;
LOCATION:Hörsalen\, Länsstyrelsen i Göteborg\, Stora Badhusgatan 2b\, G
 öteborg\, Sverige
GEO:57.7056139;11.95939199999998
X-APPLE-STRUCTURED-LOCATION;VALUE=URI;X-ADDRESS=Stora Badhusgatan 2b\, Göt
 eborg\, Sverige;X-APPLE-RADIUS=100;X-TITLE=Hörsalen\, Länsstyrelsen i G
 öteborg:geo:57.7056139,11.95939199999998
END:VEVENT
BEGIN:VTIMEZONE
TZID:Europe/Stockholm
X-LIC-LOCATION:Europe/Stockholm
BEGIN:STANDARD
DTSTART:20191027T020000
TZOFFSETFROM:+0200
TZOFFSETTO:+0100
TZNAME:CET
END:STANDARD
END:VTIMEZONE
END:VCALENDAR