BEGIN:VCALENDAR
VERSION:2.0
PRODID:-//wp-events-plugin.com//7.2.3.1//EN
TZID:Europe/Stockholm
X-WR-TIMEZONE:Europe/Stockholm
BEGIN:VEVENT
UID:22@miljorattsforeningen.se
DTSTART;TZID=Europe/Stockholm:20140827T000000
DTEND;TZID=Europe/Stockholm:20140827T000000
DTSTAMP:20160906T142740Z
URL:https://miljorattsforeningen.se/aktiviteter/studiebesok-vid-den-nya-fi
 skvagen-vid-hedefors-vattenkraftverk/
SUMMARY:Studiebesök vid den nya fiskvägen vid Hedefors Vattenkraftverk
DESCRIPTION:Få inblick i omprövningsprocessen av vattendomen och se den 
 nya fiskvägen vid Hedefors vattenkraftverk!\n\nBakgrunden är att Kammark
 ollegiet ansökte om omprövning av villkoren för kraftverket i syfte att
  möjliggöra fiskvandring förbi verket. Konsekvensen av domen i Mark- oc
 h miljööverdomstolen är att verksamhetsutövaren bl a ålagts att bygga
  en fiskväg i form av ett omlöp med en reglerad minsta avtappning\, att 
 anlägga en ny strandskoning\, att bygga om is-utskovet samt att installer
 a fingaller uppströms turbinintaget.\n\nArrangemanget inleds med ett guid
 at platsbesök vid fiskvägen\, där vi får se utfallet av domen i form a
 v de åtgärder som genomförts. Därefter går vi in i en närliggande lo
 kal för att höra Länsstyrelsen berätta om vattenvårdsprojektet och f
 å ta del av verksamhetsutövarens\, Lerum Fjärrvärmes\, syn på ärende
 t och vilka konsekvenser domen fått för dem.\n\nMedverkar gör:\n\n 	Ste
 fan Larsson\, biolog som är engagerad i fiskevården i Säveåns vattensy
 stem\n 	Lennart Olsson\, Naturvårdsenheten\, Länsstyrelsen i Västra Gö
 taland\n 	Håkan Danielsson\, VD Lerum Fjärrvärme\n\nI samband med aktiv
 iteten bjuds en lättare måltid.\n\nFöreningens kontaktperson för aktiv
 iteten är: Elisabet Stadler\n\nVarmt välkommen!\n\n&nbsp\;
LOCATION:Ställverket\, Hedeforsvägen 9\, Hedefors\, Sverige
GEO:57.78027530000001;12.297298100000035
X-APPLE-STRUCTURED-LOCATION;VALUE=URI;X-ADDRESS=Hedeforsvägen 9\, Hedefors
 \, Sverige;X-APPLE-RADIUS=100;X-TITLE=Ställverket:geo:57.78027530000001,1
 2.297298100000035
END:VEVENT
BEGIN:VTIMEZONE
TZID:Europe/Stockholm
X-LIC-LOCATION:Europe/Stockholm
BEGIN:DAYLIGHT
DTSTART:20140330T030000
TZOFFSETFROM:+0100
TZOFFSETTO:+0200
TZNAME:CEST
END:DAYLIGHT
END:VTIMEZONE
END:VCALENDAR