BEGIN:VCALENDAR
VERSION:2.0
PRODID:-//wp-events-plugin.com//7.2.3.1//EN
TZID:Europe/Stockholm
X-WR-TIMEZONE:Europe/Stockholm
BEGIN:VEVENT
UID:28@miljorattsforeningen.se
DTSTART;TZID=Europe/Stockholm:20130924T000000
DTEND;TZID=Europe/Stockholm:20130924T000000
DTSTAMP:20160906T144252Z
URL:https://miljorattsforeningen.se/aktiviteter/studiebesok-med-batutflykt
 -i-goteborgs-hamn/
SUMMARY:Studiebesök med båtutflykt i Göteborgs Hamn
DESCRIPTION:Västsvenska Miljörättsföreningen har nöjet att tillsammans
  med Göteborgs Hamn bjuda medlemmarna på en spännande båtutflykt!\n\n
 Åsa Wilske\, Miljöchef Göteborgs Hamn\, kommer att guida oss på turen 
 och berätta om hamnens verksamhet. Hamnens advokater Maria Paijkull\, adv
 okatfirman Vinge\, och Rickard Setterlid\, Setterlid &amp\; Eliasson Advok
 atbyrå\, kommer också att medverka och berätta om pågående miljöprö
 vningar.\n\nDet blir också tid för mingel och förtäring.\n\nFöreninge
 ns kontaktperson för aktiviteten är: Anna Svensson\, 031 – 368 18 48
LOCATION:Amerikaskjulet\, Emigrantgatan 2B\, Göteborg\, Sverige
GEO:57.7000337;11.93070560000001
X-APPLE-STRUCTURED-LOCATION;VALUE=URI;X-ADDRESS=Emigrantgatan 2B\, Götebor
 g\, Sverige;X-APPLE-RADIUS=100;X-TITLE=Amerikaskjulet:geo:57.7000337,11.93
 070560000001
END:VEVENT
BEGIN:VTIMEZONE
TZID:Europe/Stockholm
X-LIC-LOCATION:Europe/Stockholm
BEGIN:DAYLIGHT
DTSTART:20130331T030000
TZOFFSETFROM:+0100
TZOFFSETTO:+0200
TZNAME:CEST
END:DAYLIGHT
END:VTIMEZONE
END:VCALENDAR