BEGIN:VCALENDAR
VERSION:2.0
PRODID:-//wp-events-plugin.com//7.2.3.1//EN
TZID:Europe/Stockholm
X-WR-TIMEZONE:Europe/Stockholm
BEGIN:VEVENT
UID:52@miljorattsforeningen.se
DTSTART;TZID=Europe/Stockholm:20170309T113000
DTEND;TZID=Europe/Stockholm:20170309T130000
DTSTAMP:20170209T170803Z
URL:https://miljorattsforeningen.se/aktiviteter/statusrapporter-for-ied-an
 laggningar-erfarenheter-och-tips/
SUMMARY:Statusrapporter för IED anläggningar-erfarenheter och tips
DESCRIPTION:Välkommen på lunchseminarium om statusrapporter.\n\nIndustriu
 tsläppsverksamheter ska göra en statusrapport som redovisar förorenings
 situationen i mark och grundvatten inom sitt verksamhetsområde.\n\nSiv Ha
 nsson från länsstyrelsen i Västra Götalands län reder ut begreppen\;
  vad är en statusrapport\, vad ska den innehålla\, när och varför ska 
 den göras. Hon delar med sig av länsstyrelsens erfarenheter från arbet
 et med statusrapporter och ger exempel och tips på vad som är viktigt at
 t tänka på.\n\nI samband med seminariet bjuds på lunch.\n\nFöreningens
  kontaktperson för evenemanget är Elisabeth Lindqvist\, mobil 0736-60517
 8
LOCATION:First Hotel G\, Nils Ericsonsplatsen 4\, Göteborg\, Sverige
GEO:57.709217;11.972080199999937
X-APPLE-STRUCTURED-LOCATION;VALUE=URI;X-ADDRESS=Nils Ericsonsplatsen 4\, G
 öteborg\, Sverige;X-APPLE-RADIUS=100;X-TITLE=First Hotel G:geo:57.709217,
 11.972080199999937
END:VEVENT
BEGIN:VTIMEZONE
TZID:Europe/Stockholm
X-LIC-LOCATION:Europe/Stockholm
BEGIN:STANDARD
DTSTART:20161030T020000
TZOFFSETFROM:+0200
TZOFFSETTO:+0100
TZNAME:CET
END:STANDARD
END:VTIMEZONE
END:VCALENDAR