BEGIN:VCALENDAR
VERSION:2.0
PRODID:-//wp-events-plugin.com//7.2.3.1//EN
TZID:Europe/Stockholm
X-WR-TIMEZONE:Europe/Stockholm
BEGIN:VEVENT
UID:67@miljorattsforeningen.se
DTSTART;TZID=Europe/Stockholm:20181106T173000
DTEND;TZID=Europe/Stockholm:20181106T200000
DTSTAMP:20181022T083658Z
URL:https://miljorattsforeningen.se/aktiviteter/seminarium-om-processen-kr
 ing-slutforvaret-for-anvant-karnbransle/
SUMMARY:Seminarium om processen kring slutförvaret för använt kärnbrän
 sle
DESCRIPTION:Tisdagen den 6 november kommer advokaten Malin Wikström att in
 formera om den pågående prövningen av ett slutförvar för använt kär
 nbränsle vid Forsmark. Malin företräder Östhammars kommun\, den kommun
  som slutförvaret är tänkt att läggas i. Domstolsförhandlingarna påg
 ick 22 dagar under hösten 2017 och mark- och miljödomstolen har nu över
 lämnat ett yttrande till regeringen som ska fatta beslut i tillåtlighets
 frågan. Deponering av kärnbränsle förväntas pågå i cirka 50 år och
  sedan ska förvaret förslutas och är efter förslutning inte tänkt att
  övervakas. Vad gäller säkerhet ska prövningen ta höjd för 1 000 år
 \, 100 000 år och 1 miljon år.\n\nMalin kommer att berätta för oss om 
 några av de många juridiska utmaningar som uppstått i samband med pröv
 ningen\, såsom tillstånds omfattning och avgränsning samt rättskraft. 
 Miljöbalkens begränsningar och den politiska dimensionen i denna typ av 
 process kommer att beröras.\n\nI samband med seminariet bjuds på enklare
  mat och dryck. Föredraget kommer att ske kvällstid och vara på Front A
 dvokaters kontor på Kungstorget 2.\n\nVälkomna!\n\nKontaktperson vid eve
 ntuella frågor: Hannes Sentek\, tel: 0761102091\, e-post: hannes.sentek@f
 ront.law
LOCATION:Front Advokater\, Kungstorget 2\, Göteborg\, Sverige
GEO:57.70308859999999;11.967090699999971
X-APPLE-STRUCTURED-LOCATION;VALUE=URI;X-ADDRESS=Kungstorget 2\, Göteborg\,
  Sverige;X-APPLE-RADIUS=100;X-TITLE=Front Advokater:geo:57.70308859999999,
 11.967090699999971
END:VEVENT
BEGIN:VTIMEZONE
TZID:Europe/Stockholm
X-LIC-LOCATION:Europe/Stockholm
BEGIN:STANDARD
DTSTART:20181028T020000
TZOFFSETFROM:+0200
TZOFFSETTO:+0100
TZNAME:CET
END:STANDARD
END:VTIMEZONE
END:VCALENDAR