BEGIN:VCALENDAR
VERSION:2.0
PRODID:-//wp-events-plugin.com//7.2.3.1//EN
TZID:Europe/Stockholm
X-WR-TIMEZONE:Europe/Stockholm
BEGIN:VEVENT
UID:81@miljorattsforeningen.se
DTSTART;TZID=Europe/Stockholm:20200512T173000
DTEND;TZID=Europe/Stockholm:20200512T183000
DTSTAMP:20200419T212327Z
URL:https://miljorattsforeningen.se/aktiviteter/ordinarie-foreningsstamma-
 3-2/
SUMMARY:Ordinarie föreningsstämma
DESCRIPTION:Ordinarie föreningsstämma i Västsvenska Miljörättsförenin
 gen\n\nTid: 12 maj 2020 kl. 17:30\n\nPlats: Konferenssamtal via Skype (Sky
 pelänk kommer att skickas ut till samtliga anmälda)\n\nVid deltagande p
 å plats: Handelshögskolan\, Vasagatan 1\, Göteborg\n\nStyrelsen ser gä
 rna att deltagandet i möjligaste mån sker via Skype.\n\nFöredragningsli
 sta:\n\n 	Val av ordförande på stämman\n 	Val av sekreterare på stämm
 an\n 	Val av två justeringsmän på stämman\n 	Förteckning över närva
 rande medlemmar\n 	Fråga om stämman blivit behörigen sammankallad\n 	Fa
 stställande av föredragningslista\n 	Styrelsens och revisorernas berätt
 else\n 	Ansvarsfrihet för styrelsen\n 	Framställningar från styrelsen e
 ller motioner från medlemmarna\n 	Fastställande av avgifter\n 	Val av st
 yrelseordförande\, övriga styrelseledamöter och suppleanter\n 	Val av r
 evisor och revisorssuppleant\n 	Val av tre personer till valberedning\n 	
 Övriga frågor\n\nUnder p. 9 vill styrelsen ha årsstämmans inställning
  till en idé om att instifta ett uppsatsstipendium som ska kunna sökas a
 v student som skrivit sin examensuppsats på någon av högskolorna eller 
 universiteten i Västsverige inom föreningens intresseområde. I stipendi
 et ska även ingå att presentera sin uppsats på ett seminarium i föreni
 ngens regi.\n\nSista dagen för anmälan är 6 maj.\n\nVälkomna!\n\nStyre
 lsen
LOCATION:Handelshögskolan\, Vasagatan 1\, Göteborg\, Sverige
GEO:57.69734760000001;11.961457900000027
X-APPLE-STRUCTURED-LOCATION;VALUE=URI;X-ADDRESS=Vasagatan 1\, Göteborg\, S
 verige;X-APPLE-RADIUS=100;X-TITLE=Handelshögskolan:geo:57.69734760000001,
 11.961457900000027
END:VEVENT
BEGIN:VTIMEZONE
TZID:Europe/Stockholm
X-LIC-LOCATION:Europe/Stockholm
BEGIN:DAYLIGHT
DTSTART:20200329T030000
TZOFFSETFROM:+0100
TZOFFSETTO:+0200
TZNAME:CEST
END:DAYLIGHT
END:VTIMEZONE
END:VCALENDAR