BEGIN:VCALENDAR
VERSION:2.0
PRODID:-//wp-events-plugin.com//7.2.3.1//EN
TZID:Europe/Stockholm
X-WR-TIMEZONE:Europe/Stockholm
BEGIN:VEVENT
UID:70@miljorattsforeningen.se
DTSTART;TZID=Europe/Stockholm:20190123T113000
DTEND;TZID=Europe/Stockholm:20190123T130000
DTSTAMP:20190110T155412Z
URL:https://miljorattsforeningen.se/aktiviteter/nya-regler-i-pbl-igen-ett-
 antal-utmaningar/
SUMMARY:Nya regler i PBL igen - ett antal utmaningar
DESCRIPTION:Vi inleder årets medlemsaktiviteter med ett lunchseminarium on
 sdagen den 23 januari om aktuella ändringar i PBL. Med ledning av advokat
  Pia Pehrson får vi en inblick i ett antal frågeställningar och utmanin
 gar som ändringarna aktualiserar:\n\n 	Förtydliganden av PBL gällande k
 raven på detaljplan - vad innebär de?\n 	Effekter på handläggningstid 
 och bostadsbyggande?\n 	Nya regler om avgiftsreduktion när tidsfristen f
 ör handläggningsärenden om bygglov\, förhandsbesked och startbesked ö
 verskrids\n 	Numera verkställighet av bygglov - följder och utmaningar\n
  	Kort om miljöbedömningar för detaljplaner m.m. - en del nya begrepp\n
 \nPia Pehrson är advokat och delägare på Foyen Advokatfirma där hon ä
 r ansvarig för Mark- och miljörättsavdelningen. Pia har omfattande erfa
 renhet av att arbeta med bl.a. tillståndsprocesser\, markåtkomst\, fasti
 ghetsbildning\, detaljplaner\, bygglov och exploateringsavtal men även ar
 betsmiljöfrågor.\n\nVarmt välkomna!\n\nFöreningens kontaktperson för 
 aktiviteten är Hannele Engdahl\, tel. 0722-55 86 15.\n\n&nbsp\;
LOCATION:First Hotel G\, Nils Ericsonsplatsen 4\, Göteborg\, Sverige
GEO:57.709217;11.972080199999937
X-APPLE-STRUCTURED-LOCATION;VALUE=URI;X-ADDRESS=Nils Ericsonsplatsen 4\, G
 öteborg\, Sverige;X-APPLE-RADIUS=100;X-TITLE=First Hotel G:geo:57.709217,
 11.972080199999937
END:VEVENT
BEGIN:VTIMEZONE
TZID:Europe/Stockholm
X-LIC-LOCATION:Europe/Stockholm
BEGIN:STANDARD
DTSTART:20181028T020000
TZOFFSETFROM:+0200
TZOFFSETTO:+0100
TZNAME:CET
END:STANDARD
END:VTIMEZONE
END:VCALENDAR