BEGIN:VCALENDAR
VERSION:2.0
PRODID:-//wp-events-plugin.com//7.2.3.1//EN
TZID:Europe/Stockholm
X-WR-TIMEZONE:Europe/Stockholm
BEGIN:VEVENT
UID:132@miljorattsforeningen.se
DTSTART;TZID=Europe/Stockholm:20260121T113000
DTEND;TZID=Europe/Stockholm:20260121T130000
DTSTAMP:20260105T085143Z
URL:https://miljorattsforeningen.se/aktiviteter/miljobrott-utan-uppsat-nar
 -goda-ambitioner-inte-racker/
SUMMARY:Miljöbrott utan uppsåt – när goda ambitioner inte räcker
DESCRIPTION:Miljöbrott utan uppsåt – när goda ambitioner inte räcker\
 n\nVälkommen på lunchseminarium med Miljörättsföreningen där advokat
 en Linnea Ljung kommer att prata om oaktsamma miljöbrott från ett juridi
 skt och praktiskt perspektiv.\n\nFöredraget belyser hur miljöbrott kan u
 ppstå även i verksamheter med välfungerande miljöarbete och utan att n
 ågot uppsåt föreligger. Fokus ligger på vilka överväganden som är v
 iktiga när en polisanmälan aktualiseras\, samt hur företag kan arbeta f
 örebyggande och förbereda organisationen för att hantera en sådan situ
 ation. I detta ingår bland annat frågor om ansvar\, rutiner och delegati
 on.\n\nLinnea Ljung är advokat med specialisering inom miljörätt. Sedan
  år 2025 driver hon Pogona Advokatbyrå\, en nischbyrå med inriktning p
 å miljörätt.\n\nI samband med seminariet serveras lunch\n\nTid: 21 janu
 ari 2026 kl 11:30 – 13:00\nPlats: Advokatfirman Lindahl\, Södra Hamngat
 an 37-41\, Göteborg\nKostnad: 150 kronor (vänföretag får skicka högst
  fem deltagare utan kostnad)\n\nBetalning ska ske i samband med anmälan t
 ill föreningens plusgiro 130 48 74-9 eller bankgiro 5562-1262. Märk beta
 lningen med ditt namn.\n\nSista dag för anmälan är den 16 januari.\n\nK
 ontaktperson för seminariet är Johanna Lundgren (johanna.lundgren@lindah
 l.se)\n\nVarmt välkommen!
END:VEVENT
BEGIN:VTIMEZONE
TZID:Europe/Stockholm
X-LIC-LOCATION:Europe/Stockholm
BEGIN:STANDARD
DTSTART:20251026T020000
TZOFFSETFROM:+0200
TZOFFSETTO:+0100
TZNAME:CET
END:STANDARD
END:VTIMEZONE
END:VCALENDAR