BEGIN:VCALENDAR
VERSION:2.0
PRODID:-//wp-events-plugin.com//7.2.3.1//EN
TZID:Europe/Stockholm
X-WR-TIMEZONE:Europe/Stockholm
BEGIN:VEVENT
UID:107@miljorattsforeningen.se
DTSTART;TZID=Europe/Stockholm:20230322T120000
DTEND;TZID=Europe/Stockholm:20230322T130000
DTSTAMP:20231003T101353Z
URL:https://miljorattsforeningen.se/aktiviteter/lunchwebbinarium-om-forand
 ringar-i-lagstiftningen-kring-verksamhetsomraden-for-vatten-och-avlopp/
SUMMARY:Lunchwebbinarium om förändringar i lagstiftningen kring verksamhe
 tsområden för vatten och avlopp
DESCRIPTION:﻿Välkomna till lunchwebbinarium den 22 mars 2023\n\nAndreas 
 Gustavsson från Länsstyrelsen i Västra Götalands län kommer att berä
 tta om innebörden av de införda förändringarna och den vägledning som
  kan hämtas från förarbetena. Han kommer bland annat prata om\n\n- aktu
 ella förändringar i lagen om allmänna vattentjänster\,\n\n- möjlighet
  till flexiblare va-lösningar och\n\n- krav på kommunerna att senast den
  31 december 2023 upprätta en vattentjänstplan.\n\nDen 1 januari 2023 in
 fördes flera förändringar i Lagen om allmänna vattentjänster* med sto
 r betydelse för kommunernas arbete med vatten och avlopp. Förändringarn
 a medför större möjligheter till lösningar i enskild regi när behovet
  av verksamhetsområden för vatten eller avlopp ska avgöras. Samtidigt s
 tälls krav på kommunerna att senast den 31 december 2023 upprätta en va
 ttentjänstplan. Vattentjänstplanen ska innehålla kommunens långsiktiga
  planering av hur behovet av vatten och avlopp ska tillgodoses. Vattentjä
 nstplanen ska också innehålla kommunens bedömning av vilka åtgärder s
 om behöver vidtas för att de allmänna va- anläggningarna ska fungera v
 id en ökad belastning på grund av skyfall. Planen ska antas av kommunful
 lmäktige och föregås av samråd med berörda fastighetsägare och myndi
 gheter\, samt ställas ut för granskning liknande förfarandet vid arbete
 t med översikts- och detaljplaner.\n\nFöreningens kontaktperson för eve
 nemanget är Elisabeth Lindqvist Tärneld\, elisabeth.lindqvist.tarneld@la
 nsstyrelsen.se.\n\nSeminariet genomförs digitalt via Skype. En inloggning
 slänk kommer att skickas ut till samtliga anmälda dagen före seminariet
 .\n\nSeminariet är gratis för föreningens medlemmar. Ännu inte medlem?
  Varmt välkommen med en intresseanmälan till info@miljorattsforeningen.s
 e.\n\n*Lag (2006:412) om allmänna vattentjänster §§ 6\, 6 a-d
ATTACH;FMTTYPE=image/jpeg:https://miljorattsforeningen.se/wp-content/uploa
 ds/2023/08/Aktiviteter-img2.png
END:VEVENT
BEGIN:VTIMEZONE
TZID:Europe/Stockholm
X-LIC-LOCATION:Europe/Stockholm
BEGIN:STANDARD
DTSTART:20221030T020000
TZOFFSETFROM:+0200
TZOFFSETTO:+0100
TZNAME:CET
END:STANDARD
END:VTIMEZONE
END:VCALENDAR