BEGIN:VCALENDAR
VERSION:2.0
PRODID:-//wp-events-plugin.com//7.2.3.1//EN
TZID:Europe/Stockholm
X-WR-TIMEZONE:Europe/Stockholm
BEGIN:VEVENT
UID:87@miljorattsforeningen.se
DTSTART;TZID=Europe/Stockholm:20201203T120000
DTEND;TZID=Europe/Stockholm:20201203T130000
DTSTAMP:20201118T191751Z
URL:https://miljorattsforeningen.se/aktiviteter/lunchwebbinarium-med-natur
 vardsverket-anteckningsskyldighet-och-rapportering-av-farligt-avfall/
SUMMARY:Lunchwebbinarium med Naturvårdsverket - Anteckningsskyldighet och 
 rapportering av farligt avfall
DESCRIPTION:Den 1 augusti trädde en ny avfallsförordning i kraft som bl.a
 . utökade anteckningskraven för den som producerar farligt avfall i sin 
 verksamhet och även för andra som hanterar farligt avfall. Den 1 novembe
 r togs sedan Naturvårdsverkets digitala system för rapportering av avfal
 l i bruk och från det datumet skall all yrkesmässig hantering av farligt
  avfall rapporteras in i systemet.\n\nHur skall då detta gå till i prakt
 iken? Det hoppas vi få lite guidning i av Naturvårdsverket som i webbina
 riet kommer att kort redogöra för de nya anteckningsskyldigheterna och 
 även hur rapporteringen till det digitala registret skall gå till men se
 dan kommer ni som deltagare att få möjlighet att ställa era frågor. Om
  ni redan nu har frågor får ni gärna skicka in dem på föreningens mai
 ladress.\n\nFöreningens kontaktpersoner för seminariet är Carl Hagberg\
 , e-post carl.hagberg@stenametall.se\, tel 0725-30 51 18 och Elisabeth Lin
 dqvist Tärneld\, e-post elisabeth.lindqvist.tarneld@lansstyrelsen.se\n\nE
 n Teams-inbjudan kommer att skickas ut någon dag före webbinariet till e
 r som anmält er.\n\nVälkomna
END:VEVENT
BEGIN:VTIMEZONE
TZID:Europe/Stockholm
X-LIC-LOCATION:Europe/Stockholm
BEGIN:STANDARD
DTSTART:20201025T020000
TZOFFSETFROM:+0200
TZOFFSETTO:+0100
TZNAME:CET
END:STANDARD
END:VTIMEZONE
END:VCALENDAR