BEGIN:VCALENDAR
VERSION:2.0
PRODID:-//wp-events-plugin.com//7.2.3.1//EN
TZID:Europe/Stockholm
X-WR-TIMEZONE:Europe/Stockholm
BEGIN:VEVENT
UID:41@miljorattsforeningen.se
DTSTART;TZID=Europe/Stockholm:20111027T000000
DTEND;TZID=Europe/Stockholm:20111027T000000
DTSTAMP:20160907T064439Z
URL:https://miljorattsforeningen.se/aktiviteter/lunchseminarium-om-havspla
 nering/
SUMMARY:Lunchseminarium om havsplanering
DESCRIPTION:Den 27 oktober kommer Axel Wenblad till föreningen och berätt
 ar om förslaget till ny lag om havsplanering. Axel har varit särskild ut
 redare i den s.k. havsplaneringsutredningen med uppgift att föreslå ett 
 system för fysisk planering av territorialhavet och Sveriges ekonomiska z
 on. Axel kommer att berätta om bakgrunden till förslaget och hur en fram
 tida havsplanering kan komma att te sig.\n\nAxel Wenblad har tidigare bl.a
 . varit generaldirektör vid Fiskeriverket.\n\nHavsplaneringsutredningen l
 ämnade den 8 december 2010 förslag om fysisk planering av havet: SOU 201
 0:91 Planering på djupet - fysisk planering av havet.\n\nSista anmälning
 sdag är den 21 oktober. Antalet platser är begränsat.\n\nPlats för sem
 inariet är Göteborgs Hamns huvudkontor\, Amerikaskjulet\, Emigrantvägen
  2 B. Karta finner du på bifogad länk:\n\nhttp://www.hitta.se/ViewDetail
 sPink.aspx?vad=g%f6teborgs+hamn&amp\;Vkiid=WkNbz4JJ7Ag3lHARgGJK%252fQ%253d
 %253d&amp\;Vkid=1508719&amp\;isAlternateNumberResult=False\n\nFör allmän
 na kommunikationer se Västtrafiks reseplanerare\, hållplats Stigbergstor
 get\n\nInbetalning kan göras kontant på plats eller till plusgiro 30 58 
 74-9 eller bankgiro 5562-1262.\n\n&nbsp\;
LOCATION:Amerikaskjulet\, Emigrantvägen 2 B\, Göteborg\, Sverige
GEO:57.7000337;11.93070560000001
X-APPLE-STRUCTURED-LOCATION;VALUE=URI;X-ADDRESS=Emigrantvägen 2 B\, Göteb
 org\, Sverige;X-APPLE-RADIUS=100;X-TITLE=Amerikaskjulet:geo:57.7000337,11.
 93070560000001
END:VEVENT
BEGIN:VTIMEZONE
TZID:Europe/Stockholm
X-LIC-LOCATION:Europe/Stockholm
BEGIN:DAYLIGHT
DTSTART:20110327T030000
TZOFFSETFROM:+0100
TZOFFSETTO:+0200
TZNAME:CEST
END:DAYLIGHT
END:VTIMEZONE
END:VCALENDAR