BEGIN:VCALENDAR
VERSION:2.0
PRODID:-//wp-events-plugin.com//7.2.3.1//EN
TZID:Europe/Stockholm
X-WR-TIMEZONE:Europe/Stockholm
BEGIN:VEVENT
UID:72@miljorattsforeningen.se
DTSTART;TZID=Europe/Stockholm:20190314T090000
DTEND;TZID=Europe/Stockholm:20190314T162000
DTSTAMP:20190304T171457Z
URL:https://miljorattsforeningen.se/aktiviteter/konsultdag-pa-lansstyrelse
 n/
SUMMARY:Konsultdag på länsstyrelsen
DESCRIPTION:Länsstyrelsen bjuder in till konsultdag om miljöprövning\nL
 änsstyrelsen i Västra Götalands län anordnar den 14 mars 2019 en konsu
 ltdag med fokus på de olika delmomenten i tillståndsprövning av miljöf
 arlig verksamhet. Relaterade frågor såsom klimatanpassning samt natur- o
 ch vattenvårdsintressen kommer att beröras. Syftet med konsultdagen är 
 att tillsammans skapa förutsättningar för en effektivare tillståndspro
 cess.\n\nMålgruppen för dagen är främst konsulter\, jurister och verks
 amhetsutövare som kommer i kontakt med tillståndsansökningar enligt 9 k
 ap. miljöbalken.\n\nLänsstyrelsen välkomnar intresserade medlemmar i V
 ästsvenska Miljörättsföreningen att anmäla sig till konsultdagen!\n\n
 Anmälan görs på länsstyrelsens hemsida där även program och närmare
  information om anmälan finns att läsa.\n\nPlats:         Hörsalen\
 , Länsstyrelsen Västra Götalands län\, Stora Badhusgatan 2\, Göteborg
 \n\nKostnad:   Ca 250 kr (länsstyrelsen tar ut ett självkostnadspris f
 ör enklare måltid och frukt m.m. under dagen. Fakturering sker i eftersk
 ott).       \n\nAnmälan:  Anmälan sker till Länsstyrelsen senast 2
 019-03-06 via länsstyrelsens hemsida https://www.lansstyrelsen.se/vastra-
 gotaland/kalenderhandelser---vastra-gotaland/2019-01-22-konsultdag-inom-ti
 llstandsprovning.html
END:VEVENT
BEGIN:VTIMEZONE
TZID:Europe/Stockholm
X-LIC-LOCATION:Europe/Stockholm
BEGIN:STANDARD
DTSTART:20181028T020000
TZOFFSETFROM:+0200
TZOFFSETTO:+0100
TZNAME:CET
END:STANDARD
END:VTIMEZONE
END:VCALENDAR