BEGIN:VCALENDAR
VERSION:2.0
PRODID:-//wp-events-plugin.com//7.2.3.1//EN
TZID:Europe/Stockholm
X-WR-TIMEZONE:Europe/Stockholm
BEGIN:VEVENT
UID:34@miljorattsforeningen.se
DTSTART;TZID=Europe/Stockholm:20121113T000000
DTEND;TZID=Europe/Stockholm:20121113T000000
DTSTAMP:20160907T070742Z
URL:https://miljorattsforeningen.se/aktiviteter/inbjudan-till-lunchseminar
 ium-den-13-november-2012/
SUMMARY:Inbjudan till lunchseminarium den 13 november 2012
DESCRIPTION:Nya miljöprövningsdelegationer\n– presentation av skillnade
 rna och avsikten med förändringen\n\nNy förordning om miljöprövningsd
 elegationer\n\nFrån och med den 1 juni 2012 gäller en ny förordning om 
 miljöprövningsdelegationer\, SFS 2011:1237. Antalet miljöprövningsdele
 gationer (MPD:er) i landet har minskats ner till 12 stycken. MPD finns nu 
 inom länsstyrelserna i Stockholm\, Uppsala\, Östergötland\, Kalmar\, Sk
 åne\, Hallands\, Västra Götalands\, Örebro\, Dalarnas\, Västernorrlan
 ds\, Västerbottens och Norrbottens län. Följande åtta miljöprövnings
 delegationer har ett prövningsområde som omfattar ett prövningsområde 
 som är större än det tillhörande länet. Stockholm\, Uppsala\, Österg
 ötland\, Kalmar\, Skåne\, Örebro\, Dalarna och Västernorrlands län.\n
 \nFörordningen reglerar bland annat miljöprövningsdelegationernas samma
 nsättning\, beredning av de ärenden som delegationen ska pröva\, beslut
 sfattande\, överklagande och samverkan.\n\nSyftet med reformen med ”nya
  miljöprövningsdelegationer” är att få en mer effektiv\, kvalificera
 d och ändamålsenlig prövning\, större enhetlighet i landet i handlägg
 ningen av avgöranden och tydligare rollfördelning mellan länsstyrelsen 
 och MPD.\n\nRegeringen har även gett de 12 miljöprövningsdelegationerna
  i uppdrag att redovisa åtgärder för en kvalificerad och effektiv tills
 tåndsprövning och handläggningstider för olika ansökningar samt att t
 a fram gemensamma rutiner.\n\nLunchseminarium den 13 november\n\nUnder sem
 inariet kommer Anna Blomberg\, ordförande i Miljöprövningsdelegationen 
 inom Länsstyrelsen Västra Götalands län\, att ge oss en inblick om avs
 ikten med den nya förordningen\, innehållet i förordningen och praktisk
 a skillnader i jämförelse med tidigare. Innebär förändringen någon s
 killnad för företagen och enskilda berörda? Finns det nu förutsättnin
 gar för kortare handläggningstid av tillståndsansökningar? Mer likvär
 dig hantering av ansökningar i landet? Det och mycket mer får vi en inbl
 ick i.Seminariet äger rum den 13 november\, kl. 11:30 till ca 13:00\, på
  Palace i Brunnsparken\, Södra Hamngatan 2\, Göteborg. Vi inleder träff
 en med att äta en varmbuffé. Föredraget startar ca kl.12:15 i samband m
 ed intag av kaffe och kaka.\n\nKostnad\nVänföretag går gratis. 100 kr f
 ör enskilda medlemmar och 200 kr för icke medlemmar. Inbetalning görs t
 ill föreningens postgiro eller bankgiro\, se hemsidan.\n\nAnmäl dig sena
 st den 9 november.                                     
                                   \n\nTacksam om ni avanm
 äler er eftersom föreningen annars får en kostnad för er lunch eller l
 ämna platsen till en kollega!\nVälkomna!
LOCATION:Palace\, Södra Hamngatan 2\, Göteborg\, Sverige
GEO:57.70695669999999;11.970778600000017
X-APPLE-STRUCTURED-LOCATION;VALUE=URI;X-ADDRESS=Södra Hamngatan 2\, Göteb
 org\, Sverige;X-APPLE-RADIUS=100;X-TITLE=Palace:geo:57.70695669999999,11.9
 70778600000017
END:VEVENT
BEGIN:VTIMEZONE
TZID:Europe/Stockholm
X-LIC-LOCATION:Europe/Stockholm
BEGIN:STANDARD
DTSTART:20121028T020000
TZOFFSETFROM:+0200
TZOFFSETTO:+0100
TZNAME:CET
END:STANDARD
END:VTIMEZONE
END:VCALENDAR