BEGIN:VCALENDAR
VERSION:2.0
PRODID:-//wp-events-plugin.com//7.2.3.1//EN
TZID:Europe/Stockholm
X-WR-TIMEZONE:Europe/Stockholm
BEGIN:VEVENT
UID:21@miljorattsforeningen.se
DTSTART;TZID=Europe/Stockholm:20140925T000000
DTEND;TZID=Europe/Stockholm:20140925T000000
DTSTAMP:20160906T142518Z
URL:https://miljorattsforeningen.se/aktiviteter/i-vatt-och-torrt-forslag-t
 ill-andrade-vattenrattsliga-regler/
SUMMARY:I vått och torrt - förslag till ändrade vattenrättsliga regler
DESCRIPTION:Kom och lyssna till Karolina Ardesjö Lundén som deltagit som 
 expert i vattenverksamhetsutredningen och som till vardags arbetar som adv
 okatfiskal vid Kammarkollegiet.\n\nUtredningens förslag ska leda till att
  grundläggande principer för miljörätten\, såsom principen om att fö
 rorenaren betalar och att bästa möjliga teknik ska användas\, får geno
 mslag även för vattenverksamheter.\n\nMånga av dagens vattenverksamhete
 r är uppförda eller drivs med tillstånd som meddelats med stöd av äld
 re lagstiftning och som inte är anpassade till dagens miljölagstiftning.
  Utredningen föreslår därför nya bestämmelser för bl.a. tillståndsp
 rövning och omprövning och att de civilrättsliga frågorna ska behandla
 s utanför miljöprocessen. Bestämmelser som har varit särskiljande för
  vattenverksamheter ska fasas ut.\n\nFöreslagna ändringar ska säkerstä
 lla att alla tillståndspliktiga vattenverksamheter har tillstånd i över
 ensstämmelse med MB och\n\nEU-rätten samtidigt som en väl fungerande ma
 rkavvattning och en fortsatt hög regler- och produktionskapacitet i den s
 venskavattenkraftsproduktionen eftersträvas.\n\nFörändringarna är någ
 ra av de största som skett sedan miljöbalken infördes!\n\nLunchseminari
 et äger rum på First Hotel G vid Centralstationen i Göteborg den 25 sep
 tember 11.30-13.00. Anmälan sker via hemsidan.\n\nVarmt välkomna!\n\n&nb
 sp\;
LOCATION:First Hotel G\, Nils Ericsonsplatsen 4\, Göteborg\, Sverige
GEO:57.709217;11.972080199999937
X-APPLE-STRUCTURED-LOCATION;VALUE=URI;X-ADDRESS=Nils Ericsonsplatsen 4\, G
 öteborg\, Sverige;X-APPLE-RADIUS=100;X-TITLE=First Hotel G:geo:57.709217,
 11.972080199999937
END:VEVENT
BEGIN:VTIMEZONE
TZID:Europe/Stockholm
X-LIC-LOCATION:Europe/Stockholm
BEGIN:DAYLIGHT
DTSTART:20140330T030000
TZOFFSETFROM:+0100
TZOFFSETTO:+0200
TZNAME:CEST
END:DAYLIGHT
END:VTIMEZONE
END:VCALENDAR