BEGIN:VCALENDAR
VERSION:2.0
PRODID:-//wp-events-plugin.com//7.2.3.1//EN
TZID:Europe/Stockholm
X-WR-TIMEZONE:Europe/Stockholm
BEGIN:VEVENT
UID:20@miljorattsforeningen.se
DTSTART;TZID=Europe/Stockholm:20141022T000000
DTEND;TZID=Europe/Stockholm:20141022T000000
DTSTAMP:20160906T142241Z
URL:https://miljorattsforeningen.se/aktiviteter/hur-tanker-mark-och-miljod
 omstolarna-i-aktuella-miljorattsliga-fragor/
SUMMARY:Hur tänker Mark- och miljödomstolarna i aktuella miljörättsliga
  frågor?
DESCRIPTION:Har du också ställt dig den frågan?\n\nNu har du möjlighet 
 att få svar på dina frågor när Göran Stenman\, rådman på Mark- och
  miljödomstolen i Vänersborg\, gästar föreningen den 22 oktober kl. 17
 .30 på Handels i Göteborg.\n\nEfter seminariet kommer lättare förtäri
 ng att serveras. Meddela oss om du har några särskilda krav på maten.\n
 \nAvgiften betalas in på föreningens Postgiro 130 48 74-9 eller Bankgiro
  5562-1262. Ange ditt namn och 'Seminarie 22 oktober'.\n\nAnställda på 
 vänföretag går gratis.\n\nKontaktperson: Carl Hagberg\, 0725-30 51 18\
 n\nVälkomna önskar Västsvenska miljörättsföreningen\n\n&nbsp\;
LOCATION:Sal E-45 på Handelshögskolan\, vasagatan 1\, Göteborg\, Sverige
GEO:57.69734760000001;11.961457900000028
X-APPLE-STRUCTURED-LOCATION;VALUE=URI;X-ADDRESS=vasagatan 1\, Göteborg\, S
 verige;X-APPLE-RADIUS=100;X-TITLE=Sal E-45 på Handelshögskolan:geo:57.69
 734760000001,11.961457900000028
END:VEVENT
BEGIN:VTIMEZONE
TZID:Europe/Stockholm
X-LIC-LOCATION:Europe/Stockholm
BEGIN:DAYLIGHT
DTSTART:20140330T030000
TZOFFSETFROM:+0100
TZOFFSETTO:+0200
TZNAME:CEST
END:DAYLIGHT
END:VTIMEZONE
END:VCALENDAR