BEGIN:VCALENDAR
VERSION:2.0
PRODID:-//wp-events-plugin.com//7.2.3.1//EN
TZID:Europe/Stockholm
X-WR-TIMEZONE:Europe/Stockholm
BEGIN:VEVENT
UID:26@miljorattsforeningen.se
DTSTART;TZID=Europe/Stockholm:20140127T000000
DTEND;TZID=Europe/Stockholm:20140127T000000
DTSTAMP:20160906T143836Z
URL:https://miljorattsforeningen.se/aktiviteter/havsplanering-hur-for-vem-
 av-vem-och-nar/
SUMMARY:Havsplanering - hur\, för vem\, av vem och när?
DESCRIPTION:Regeringen har under hösten lagt ett förslag till lagstiftnin
 g om havsplanering. Även kommissionen har lagt fram ett förslag om direk
 tiv om havsplanering. Havs- och vattenmyndigheten har redan börjat förbe
 reda för en framtida havsplanering som kommer att involvera många olika 
 aktörer\, både myndigheter\, kommuner organisationer\, företag etc. och
  där många konflikter och intressemotsättningar i både tid och rum må
 ste hanteras.\n\nMåndagen den 27 januari 2014 kl. 11.30-13-00 anordnar V
 ästsvenska Miljörättsföreningen ett lunchseminarium om havsplanering. 
 Jenny Liökel och Jan Schmidtbauer Crona från Havs- och vattenmyndigheten
  pesenterar den kommande regleringen samt arbetet för att få igång havs
 planeringen.
LOCATION:Palace\, Södra Hamngatan 2\, Göteborg\, Sverige
GEO:57.70695669999999;11.970778600000017
X-APPLE-STRUCTURED-LOCATION;VALUE=URI;X-ADDRESS=Södra Hamngatan 2\, Göteb
 org\, Sverige;X-APPLE-RADIUS=100;X-TITLE=Palace:geo:57.70695669999999,11.9
 70778600000017
END:VEVENT
BEGIN:VTIMEZONE
TZID:Europe/Stockholm
X-LIC-LOCATION:Europe/Stockholm
BEGIN:STANDARD
DTSTART:20131027T020000
TZOFFSETFROM:+0200
TZOFFSETTO:+0100
TZNAME:CET
END:STANDARD
END:VTIMEZONE
END:VCALENDAR