BEGIN:VCALENDAR
VERSION:2.0
PRODID:-//wp-events-plugin.com//7.2.3.1//EN
TZID:Europe/Stockholm
X-WR-TIMEZONE:Europe/Stockholm
BEGIN:VEVENT
UID:80@miljorattsforeningen.se
DTSTART;TZID=Europe/Stockholm:20200421T123000
DTEND;TZID=Europe/Stockholm:20200421T133000
DTSTAMP:20200402T195210Z
URL:https://miljorattsforeningen.se/aktiviteter/hallbarhetsstrategi-och-ci
 rkular-ekonomi-hur-jobbar-ikea-2/
SUMMARY:Skypeseminarium: Hållbarhetsstrategi och cirkulär ekonomi - hur j
 obbar IKEA?
DESCRIPTION:Är du intresserad av att höra hur IKEA arbetar med hållbarhe
 tsfrågor och cirkulär ekonomi? Välkommen på ett skypeseminarium med Pe
 r Stoltz som arbetar med Resource and Waste management och Circular IKEA f
 ör Ingka Group. \n\nTid: Tisdagen den 21 april kl. 12:30-13:30\n\nPlats: 
 Skypeseminarium (länk till seminariet kommer att skickas ut till samtliga
  anmälda)\n\nVarmt välkomna!\n\nFöreningens kontaktperson för aktivite
 ten är Karin Kannesten 010-224 48 37
END:VEVENT
BEGIN:VTIMEZONE
TZID:Europe/Stockholm
X-LIC-LOCATION:Europe/Stockholm
BEGIN:DAYLIGHT
DTSTART:20200329T030000
TZOFFSETFROM:+0100
TZOFFSETTO:+0200
TZNAME:CEST
END:DAYLIGHT
END:VTIMEZONE
END:VCALENDAR