BEGIN:VCALENDAR
VERSION:2.0
PRODID:-//wp-events-plugin.com//7.2.3.1//EN
TZID:Europe/Stockholm
X-WR-TIMEZONE:Europe/Stockholm
BEGIN:VEVENT
UID:125@miljorattsforeningen.se
DTSTART;TZID=Europe/Stockholm:20250116T120000
DTEND;TZID=Europe/Stockholm:20250116T130000
DTSTAMP:20250115T151740Z
URL:https://miljorattsforeningen.se/aktiviteter/energikartlaggningar-energ
 ihushallningsplaner-och-energiarbete-i-foretag-nulage-framtid-och-tillgang
 lig-vagledning/
SUMMARY:Energikartläggningar\, energihushållningsplaner och energiarbete 
 i företag –  nuläge\, framtid och tillgänglig vägledning
DESCRIPTION:﻿﻿﻿﻿Varmt välkomna till årets första webbinarie med 
 Västsvenska Miljörättsföreningen! \n\nPå detta webbinarie kommer Mali
 n Karlsson och Åsa Thurin från Energimyndigheten att berätta om aktuell
  lagstiftning och tillgänglig vägledning inom området. Det har nyligen 
 skett revideringar av Direktivet om energieffektivitet\, EED och Industriu
 tsläppsdirektivet\, IED. De nya bestämmelserna är i många fall  inte i
 nförda i svensk lagstiftning än men webbinariet beskriver relevanta änd
 ringar i direktiven som rör företag när det gäller energifrågor. \n\n
 Webbinariet kommer också innehålla en genomgång av tillgänglig vägled
 ning på området\, exempelvis om energihushållningsplaner som många ver
 ksamheter har krav på enligt villkor i tillstånd. \n\nKontaktperson för
  eventet är Elisabeth Lindqvist Tärneld\, elisabeth.lindqvist.tarneld@la
 nsstyrelsen.se\n\nSista dag för anmälan är den 14 januari. \n\nDe anmä
 lda kommer innan webbinariet få en länk på mejl. \n\n
END:VEVENT
BEGIN:VTIMEZONE
TZID:Europe/Stockholm
X-LIC-LOCATION:Europe/Stockholm
BEGIN:STANDARD
DTSTART:20241027T020000
TZOFFSETFROM:+0200
TZOFFSETTO:+0100
TZNAME:CET
END:STANDARD
END:VTIMEZONE
END:VCALENDAR