BEGIN:VCALENDAR
VERSION:2.0
PRODID:-//wp-events-plugin.com//7.2.3.1//EN
TZID:Europe/Stockholm
X-WR-TIMEZONE:Europe/Stockholm
BEGIN:VEVENT
UID:134@miljorattsforeningen.se
DTSTART;TZID=Europe/Stockholm:20260417T120000
DTEND;TZID=Europe/Stockholm:20260417T130000
DTSTAMP:20260330T180546Z
URL:https://miljorattsforeningen.se/aktiviteter/en-kortare-instanskedja-fo
 r-mark-och-miljoarenden/
SUMMARY:En kortare instanskedja för mark- och miljöärenden
DESCRIPTION:Välkommen på lunchwebinarium med Västsvenska Miljörättsfö
 reningen. Ni kommer på detta webinarium att få lyssna på utredningssekr
 eteraren Camilla Adolfsson som berättar om SOU 2025:122\, En kortare inst
 anskedja för mark- och miljöärenden. Delbetänkandet avser frågan om u
 tredningsbördan i detaljplaneprocessen samt instansordnings- och överpr
 övningsfrågor.\n
END:VEVENT
BEGIN:VTIMEZONE
TZID:Europe/Stockholm
X-LIC-LOCATION:Europe/Stockholm
BEGIN:DAYLIGHT
DTSTART:20260329T030000
TZOFFSETFROM:+0100
TZOFFSETTO:+0200
TZNAME:CEST
END:DAYLIGHT
END:VTIMEZONE
END:VCALENDAR